BEGIN:VCALENDAR
VERSION:2.0
PRODID:-//Royal Canadian Legion Calgary No. 1 Branch - ECPv6.15.14//NONSGML v1.0//EN
CALSCALE:GREGORIAN
METHOD:PUBLISH
X-ORIGINAL-URL:https://stage.onelegionyyc.ca
X-WR-CALDESC:Events for Royal Canadian Legion Calgary No. 1 Branch
REFRESH-INTERVAL;VALUE=DURATION:PT1H
X-Robots-Tag:noindex
X-PUBLISHED-TTL:PT1H
BEGIN:VTIMEZONE
TZID:America/Edmonton
BEGIN:DAYLIGHT
TZOFFSETFROM:-0700
TZOFFSETTO:-0600
TZNAME:MDT
DTSTART:20240310T090000
END:DAYLIGHT
BEGIN:STANDARD
TZOFFSETFROM:-0600
TZOFFSETTO:-0700
TZNAME:MST
DTSTART:20241103T080000
END:STANDARD
BEGIN:DAYLIGHT
TZOFFSETFROM:-0700
TZOFFSETTO:-0600
TZNAME:MDT
DTSTART:20250309T090000
END:DAYLIGHT
BEGIN:STANDARD
TZOFFSETFROM:-0600
TZOFFSETTO:-0700
TZNAME:MST
DTSTART:20251102T080000
END:STANDARD
BEGIN:DAYLIGHT
TZOFFSETFROM:-0700
TZOFFSETTO:-0600
TZNAME:MDT
DTSTART:20260308T090000
END:DAYLIGHT
BEGIN:STANDARD
TZOFFSETFROM:-0600
TZOFFSETTO:-0700
TZNAME:MST
DTSTART:20261101T080000
END:STANDARD
END:VTIMEZONE
BEGIN:VEVENT
DTSTART;VALUE=DATE:20251031
DTEND;VALUE=DATE:20251113
DTSTAMP:20260424T173506
CREATED:20250325T061448Z
LAST-MODIFIED:20251015T014624Z
UID:3785-1761876000-1762912799@stage.onelegionyyc.ca
SUMMARY:Poppy Campaign
DESCRIPTION:Every year\, from the last Friday of October to November 11\, tens of millions of Canadians wear a Poppy as a visual pledge to honour Canada’s Veterans and remember those who sacrificed for the freedoms we enjoy today.
URL:https://stage.onelegionyyc.ca/event/poppy-campaign/
ATTACH;FMTTYPE=image/jpeg:https://stage.onelegionyyc.ca/wp-content/uploads/2025/06/20161015_poppycampaign-0269d8e70af4ab96e79a6a3ff00003d8727.jpg
END:VEVENT
BEGIN:VEVENT
DTSTART;TZID=America/Edmonton:20251102T140000
DTEND;TZID=America/Edmonton:20251102T170000
DTSTAMP:20260424T173506
CREATED:20250905T165116Z
LAST-MODIFIED:20250905T165617Z
UID:4873-1762092000-1762102800@stage.onelegionyyc.ca
SUMMARY:The War Brides Are Coming
DESCRIPTION:A play in celebration of the 80th anniversary of the war brides’ arrival in Canada and to support the Raise The Roof fundraiser. \nTickets $20 each. Available at the door or phone (403) 266-5752.
URL:https://stage.onelegionyyc.ca/event/the-war-brides-are-coming/
ATTACH;FMTTYPE=image/jpeg:https://stage.onelegionyyc.ca/wp-content/uploads/2025/09/war_brides.jpg
END:VEVENT
BEGIN:VEVENT
DTSTART;TZID=America/Edmonton:20251111T090000
DTEND;TZID=America/Edmonton:20251111T180000
DTSTAMP:20260424T173506
CREATED:20250325T061549Z
LAST-MODIFIED:20251015T014108Z
UID:3787-1762851600-1762884000@stage.onelegionyyc.ca
SUMMARY:Remembrance Day Service and Celebration
DESCRIPTION:Join us for our Remembrance Day Service and Celebration\nas we pay tribute to the brave men and women\nwho served and sacrificed for our freedom.\nDoors Open at 9am\nService begins at 10:15 am\nCelebration begins immediately following the Service (approx 11:15am)\nMusic by Lindberg Express begins 11:30am
URL:https://stage.onelegionyyc.ca/event/remembrance-day-service/
ATTACH;FMTTYPE=image/jpeg:https://stage.onelegionyyc.ca/wp-content/uploads/2025/02/heritagecafe3.jpg
END:VEVENT
BEGIN:VEVENT
DTSTART;TZID=America/Edmonton:20251114T190000
DTEND;TZID=America/Edmonton:20251115T010000
DTSTAMP:20260424T173506
CREATED:20250910T223234Z
LAST-MODIFIED:20251027T225121Z
UID:4925-1763146800-1763168400@stage.onelegionyyc.ca
SUMMARY:The Dust Collectors
DESCRIPTION:We’re taking over both floors\, upstairs and downstairs\, blending folk\, hip hop\, and soul into one big vibe. It’s gonna be a smasher!\nGet tickets at Eventbrite: LEGION #1 DOWNTOWN // SHOWCASE NIGHT TWO Tickets\, Fri\, Nov 14\, 2025 at 7:00 PM | Eventbrite \n 
URL:https://stage.onelegionyyc.ca/event/the-dust-collectors-1/
ATTACH;FMTTYPE=image/jpeg:https://stage.onelegionyyc.ca/wp-content/uploads/2025/09/The-Dust-Collectors.jpg
END:VEVENT
BEGIN:VEVENT
DTSTART;TZID=America/Edmonton:20251128T190000
DTEND;TZID=America/Edmonton:20251128T220000
DTSTAMP:20260424T173506
CREATED:20250324T134343Z
LAST-MODIFIED:20251027T221112Z
UID:3751-1764356400-1764367200@stage.onelegionyyc.ca
SUMMARY:Real Canadian Wrestling
DESCRIPTION:RCW Remembering the Viking Lord\nCome join us at the Royal Canadian Legion Branch 1 for a night filled with epic battles and legendary warriors! This event is a tribute to the Viking Lord\, showcasing their fearless spirit and powerful presence. Get ready to witness thrilling matches and intense showdowns as wrestlers from all over come together to honor the Viking Lord’s legacy. Don’t miss out on this unforgettable evening of excitement and entertainment! \nGet your tickets from Eventbrite: RCW Remembering the Viking Lord Tickets\, Fri\, 28 Nov 2025 at 7:30 PM | Eventbrite
URL:https://stage.onelegionyyc.ca/event/real-canadian-wrestling-11/
CATEGORIES:Entertainment
ATTACH;FMTTYPE=image/jpeg:https://stage.onelegionyyc.ca/wp-content/uploads/2025/03/rcw_featured.jpg
END:VEVENT
END:VCALENDAR