BEGIN:VCALENDAR
VERSION:2.0
PRODID:-//Royal Canadian Legion Calgary No. 1 Branch - ECPv6.15.14//NONSGML v1.0//EN
CALSCALE:GREGORIAN
METHOD:PUBLISH
X-WR-CALNAME:Royal Canadian Legion Calgary No. 1 Branch
X-ORIGINAL-URL:https://stage.onelegionyyc.ca
X-WR-CALDESC:Events for Royal Canadian Legion Calgary No. 1 Branch
REFRESH-INTERVAL;VALUE=DURATION:PT1H
X-Robots-Tag:noindex
X-PUBLISHED-TTL:PT1H
BEGIN:VTIMEZONE
TZID:America/Edmonton
BEGIN:DAYLIGHT
TZOFFSETFROM:-0700
TZOFFSETTO:-0600
TZNAME:MDT
DTSTART:20240310T090000
END:DAYLIGHT
BEGIN:STANDARD
TZOFFSETFROM:-0600
TZOFFSETTO:-0700
TZNAME:MST
DTSTART:20241103T080000
END:STANDARD
BEGIN:DAYLIGHT
TZOFFSETFROM:-0700
TZOFFSETTO:-0600
TZNAME:MDT
DTSTART:20250309T090000
END:DAYLIGHT
BEGIN:STANDARD
TZOFFSETFROM:-0600
TZOFFSETTO:-0700
TZNAME:MST
DTSTART:20251102T080000
END:STANDARD
BEGIN:DAYLIGHT
TZOFFSETFROM:-0700
TZOFFSETTO:-0600
TZNAME:MDT
DTSTART:20260308T090000
END:DAYLIGHT
BEGIN:STANDARD
TZOFFSETFROM:-0600
TZOFFSETTO:-0700
TZNAME:MST
DTSTART:20261101T080000
END:STANDARD
END:VTIMEZONE
BEGIN:VEVENT
DTSTART;TZID=America/Edmonton:20251003T113000
DTEND;TZID=America/Edmonton:20251003T133000
DTSTAMP:20260424T190833
CREATED:20250531T041624Z
LAST-MODIFIED:20250531T041732Z
UID:4293-1759491000-1759498200@stage.onelegionyyc.ca
SUMMARY:The Oilfield Cribbage Bash 2
DESCRIPTION:Cribbage tournament will be held in the Olympic Lounge on Friday\, Oct 3 beginning at 11:30am.\n2 person teams.  Registration includes Pizza Lunch\, Drinks\, Prizes.
URL:https://stage.onelegionyyc.ca/event/the-oilfield-cribbage-bash-2/
ATTACH;FMTTYPE=image/jpeg:https://stage.onelegionyyc.ca/wp-content/uploads/2025/05/oilfield_cribbage_bash2.jpg
END:VEVENT
BEGIN:VEVENT
DTSTART;TZID=America/Edmonton:20251018T190000
DTEND;TZID=America/Edmonton:20251018T220000
DTSTAMP:20260424T190833
CREATED:20250324T134051Z
LAST-MODIFIED:20251015T012322Z
UID:3745-1760814000-1760824800@stage.onelegionyyc.ca
SUMMARY:Real Canadian Wrestling
DESCRIPTION:RCW RISE OF LEGENDS NIGHT 2: CALGARY\nGet ready for a night of non-stop action and excitement at Royal Canadian Legion Branch 1! Join us for the second night of RCW RISE OF LEGENDS as top wrestlers battle it out in the ring. Witness epic showdowns\, jaw-dropping moves\, and unforgettable moments. Don’t miss out on this legendary event – grab your tickets now! \nWitness your favorite wrestlers battle it out in the ring and experience the adrenaline-pumping action live! Don’t miss out on this epic event that promises to be unforgettable. Grab your tickets now and be part of the excitement! \nTickets at Eventbrite:RCW RISE OF LEGENDS NIGHT 2: CALGARY Tickets\, Sat\, 18 Oct 2025 at 7:30 PM | Eventbrite
URL:https://stage.onelegionyyc.ca/event/real-canadian-wrestling-8/
CATEGORIES:Entertainment
ATTACH;FMTTYPE=image/jpeg:https://stage.onelegionyyc.ca/wp-content/uploads/2025/03/Rise-of-Legends-RCW.jpg
END:VEVENT
BEGIN:VEVENT
DTSTART;TZID=America/Edmonton:20251019T130000
DTEND;TZID=America/Edmonton:20251019T140000
DTSTAMP:20260424T190833
CREATED:20250920T231429Z
LAST-MODIFIED:20251015T021837Z
UID:4958-1760878800-1760882400@stage.onelegionyyc.ca
SUMMARY:October General Meeting
DESCRIPTION:.
URL:https://stage.onelegionyyc.ca/event/october-general-meeting/
ATTACH;FMTTYPE=image/jpeg:https://stage.onelegionyyc.ca/wp-content/uploads/2025/09/Oct-General-Meeting-like-AGM-JPG.jpg
END:VEVENT
BEGIN:VEVENT
DTSTART;VALUE=DATE:20251031
DTEND;VALUE=DATE:20251113
DTSTAMP:20260424T190833
CREATED:20250325T061448Z
LAST-MODIFIED:20251015T014624Z
UID:3785-1761876000-1762912799@stage.onelegionyyc.ca
SUMMARY:Poppy Campaign
DESCRIPTION:Every year\, from the last Friday of October to November 11\, tens of millions of Canadians wear a Poppy as a visual pledge to honour Canada’s Veterans and remember those who sacrificed for the freedoms we enjoy today.
URL:https://stage.onelegionyyc.ca/event/poppy-campaign/
ATTACH;FMTTYPE=image/jpeg:https://stage.onelegionyyc.ca/wp-content/uploads/2025/06/20161015_poppycampaign-0269d8e70af4ab96e79a6a3ff00003d8727.jpg
END:VEVENT
BEGIN:VEVENT
DTSTART;TZID=America/Edmonton:20251031T200000
DTEND;TZID=America/Edmonton:20251101T010000
DTSTAMP:20260424T190833
CREATED:20250325T061005Z
LAST-MODIFIED:20251027T224839Z
UID:3780-1761940800-1761958800@stage.onelegionyyc.ca
SUMMARY:You Wouldn't Download a Party: A CJSW x Sled Island Halloween Bash
DESCRIPTION:The CJSW x Sled Island Halloween Bash is back on Friday\, October 31 at the #1 Royal Canadian Legion! You Wouldn’t Download a Party\, but you would attend one\, especially when it’s the best Halloween Party in the city! \nGet your tickets at showpass: You Wouldn’t Download a Party: A CJSW x Sled Island Halloween Bash – #1 Royal Canadian Legion – Calgary – Oct 31\, 2025 · Showpass \nThis is an 18+ event. \n  \n 
URL:https://stage.onelegionyyc.ca/event/you-wouldnt-download-a-party-halloween-party/
ATTACH;FMTTYPE=image/jpeg:https://stage.onelegionyyc.ca/wp-content/uploads/2025/03/25FD_HalloweenParty.jpg
END:VEVENT
END:VCALENDAR