BEGIN:VCALENDAR
VERSION:2.0
PRODID:-//Royal Canadian Legion Calgary No. 1 Branch - ECPv6.15.14//NONSGML v1.0//EN
CALSCALE:GREGORIAN
METHOD:PUBLISH
X-ORIGINAL-URL:https://stage.onelegionyyc.ca
X-WR-CALDESC:Events for Royal Canadian Legion Calgary No. 1 Branch
REFRESH-INTERVAL;VALUE=DURATION:PT1H
X-Robots-Tag:noindex
X-PUBLISHED-TTL:PT1H
BEGIN:VTIMEZONE
TZID:America/Edmonton
BEGIN:DAYLIGHT
TZOFFSETFROM:-0700
TZOFFSETTO:-0600
TZNAME:MDT
DTSTART:20250309T090000
END:DAYLIGHT
BEGIN:STANDARD
TZOFFSETFROM:-0600
TZOFFSETTO:-0700
TZNAME:MST
DTSTART:20251102T080000
END:STANDARD
BEGIN:DAYLIGHT
TZOFFSETFROM:-0700
TZOFFSETTO:-0600
TZNAME:MDT
DTSTART:20260308T090000
END:DAYLIGHT
BEGIN:STANDARD
TZOFFSETFROM:-0600
TZOFFSETTO:-0700
TZNAME:MST
DTSTART:20261101T080000
END:STANDARD
BEGIN:DAYLIGHT
TZOFFSETFROM:-0700
TZOFFSETTO:-0600
TZNAME:MDT
DTSTART:20270314T090000
END:DAYLIGHT
BEGIN:STANDARD
TZOFFSETFROM:-0600
TZOFFSETTO:-0700
TZNAME:MST
DTSTART:20271107T080000
END:STANDARD
END:VTIMEZONE
BEGIN:VEVENT
DTSTART;TZID=America/Edmonton:20260201T090000
DTEND;TZID=America/Edmonton:20260201T163000
DTSTAMP:20260425T095856
CREATED:20260121T202249Z
LAST-MODIFIED:20260121T213356Z
UID:5234-1769936400-1769963400@stage.onelegionyyc.ca
SUMMARY:Volunteers Needed - Building Clean Up Day
DESCRIPTION:Calling all volunteers! We need your help to spruce up our building. Whether you’re able to lend a hand for the full day or just a few hours\, every contribution makes a real difference. \nTasks will include general cleaning\, washing and dusting\, and refreshing common spaces. No special experience is required — just comfortable clothes\, a positive attitude\, and a willingness to help. It’s also a wonderful opportunity to connect with fellow members\, meet new faces\, and enjoy the satisfaction of seeing immediate results from your efforts. \nSend an email to info@onelegionyyc.ca to confirm your availability  \nLunch and refreshments will be provided. 
URL:https://stage.onelegionyyc.ca/event/volunteers-needed-building-clean-up-day/
ATTACH;FMTTYPE=image/jpeg:https://stage.onelegionyyc.ca/wp-content/uploads/2026/01/Feb-1-clean-up-website.jpg
END:VEVENT
BEGIN:VEVENT
DTSTART;TZID=America/Edmonton:20260220T200000
DTEND;TZID=America/Edmonton:20260221T010000
DTSTAMP:20260425T095856
CREATED:20250325T061807Z
LAST-MODIFIED:20251204T165053Z
UID:3793-1771617600-1771635600@stage.onelegionyyc.ca
SUMMARY:Hawksley Workman
DESCRIPTION:Hawksley Workman in Calgary \n\nFEB 20 – Calgary\, AB – Royal Canadian Legion Branch #1 \nAward-winning singer-songwriter and multi-instrumentalist Hawksley Workman will be hitting the road for an extensive Canadian tour this fall.
URL:https://stage.onelegionyyc.ca/event/hawksley-workman/
CATEGORIES:Concerts
ATTACH;FMTTYPE=image/png:https://stage.onelegionyyc.ca/wp-content/uploads/2025/03/hawksleyesized.png
END:VEVENT
BEGIN:VEVENT
DTSTART;TZID=America/Edmonton:20260221T190000
DTEND;TZID=America/Edmonton:20260221T223000
DTSTAMP:20260425T095856
CREATED:20260105T004304Z
LAST-MODIFIED:20260105T012958Z
UID:5214-1771700400-1771713000@stage.onelegionyyc.ca
SUMMARY:RCW SHOWTIME
DESCRIPTION:RCW SHOWTIME featuring the Calgary wrestling return Lucha Sensation MICRO MAN\n\n\n\nGet Ready for RCW SHOWTIME!\nJoin us in person for RCW SHOWTIME\, the ultimate event featuring return of World’s smallest Luchadore MICRO MAN\, plus all the top stars of RCW in action.
URL:https://stage.onelegionyyc.ca/event/rcw-showtime/
ATTACH;FMTTYPE=image/png:https://stage.onelegionyyc.ca/wp-content/uploads/2026/01/RCW-SHOWTIME-sized.png
END:VEVENT
BEGIN:VEVENT
DTSTART;VALUE=DATE:20260313
DTEND;VALUE=DATE:20260317
DTSTAMP:20260425T095856
CREATED:20250325T061906Z
LAST-MODIFIED:20250403T172518Z
UID:3795-1773367200-1773626399@stage.onelegionyyc.ca
SUMMARY:Dolly Wigglar Animated Objects
DESCRIPTION:The love child of a 1920’s Czech cabaret and a tavern in Ponoka\, the Dolly Wiggler Cabaret is an infamous hallucination materializing in the probably haunted #1 Legion once a year.\nYou cannot prepare\, but you will be exposed to a packed roster of short form puppetry for adults. No promises\, but the best seats are as close to the stage as you dare.
URL:https://stage.onelegionyyc.ca/event/dolly-wigglar-animated-objects/
CATEGORIES:Performances
ATTACH;FMTTYPE=image/png:https://stage.onelegionyyc.ca/wp-content/uploads/2025/03/dollywiggler_featured.jpg.png
END:VEVENT
BEGIN:VEVENT
DTSTART;TZID=America/Edmonton:20260315T130000
DTEND;TZID=America/Edmonton:20260315T140000
DTSTAMP:20260425T095856
CREATED:20250910T223252Z
LAST-MODIFIED:20260105T013421Z
UID:4927-1773579600-1773583200@stage.onelegionyyc.ca
SUMMARY:March 2026 General Meeting
DESCRIPTION:Join us for our General Meetings\, where important updates\, discussions\, and decisions shaping our organization will take place. These meetings provide an excellent opportunity to stay informed\, contribute ideas\, and engage with fellow members. \nPlease note that while everyone is welcome to participate\, only members in good standing are eligible to vote on any business that may arise. All meetings are held in person at the Legion: 116 7 Ave SE. \nWe look forward to your continued involvement and valuable contributions at our upcoming meetings and throughout the year.
URL:https://stage.onelegionyyc.ca/event/mar2026-general-meeting/
ATTACH;FMTTYPE=image/png:https://stage.onelegionyyc.ca/wp-content/uploads/2025/09/March-2026-GM-resized.png
END:VEVENT
BEGIN:VEVENT
DTSTART;TZID=America/Edmonton:20260524T130000
DTEND;TZID=America/Edmonton:20260524T140000
DTSTAMP:20260425T095856
CREATED:20260401T203657Z
LAST-MODIFIED:20260401T204901Z
UID:5243-1779627600-1779631200@stage.onelegionyyc.ca
SUMMARY:May 2026 General Meeting
DESCRIPTION:Join us for our General Meetings\, where important updates\, discussions\, and decisions shaping our organization will take place. These meetings provide an excellent opportunity to stay informed\, contribute ideas\, and engage with fellow members. \nPlease note that while everyone is welcome to participate\, only members in good standing are eligible to vote on any business that may arise. All meetings are held in person at the Legion: 116 7 Ave SE. \nWe look forward to your continued involvement and valuable contributions at our upcoming meetings and throughout the year.
URL:https://stage.onelegionyyc.ca/event/may-2026-general-meeting/
CATEGORIES:Other
ATTACH;FMTTYPE=image/jpeg:https://stage.onelegionyyc.ca/wp-content/uploads/2026/04/May-2026.jpg
END:VEVENT
BEGIN:VEVENT
DTSTART;TZID=America/Edmonton:20260913T130000
DTEND;TZID=America/Edmonton:20260913T140000
DTSTAMP:20260425T095856
CREATED:20260401T203853Z
LAST-MODIFIED:20260401T205207Z
UID:5246-1789304400-1789308000@stage.onelegionyyc.ca
SUMMARY:September 2026 General Meeting
DESCRIPTION:Join us for our General Meetings\, where important updates\, discussions\, and decisions shaping our organization will take place. These meetings provide an excellent opportunity to stay informed\, contribute ideas\, and engage with fellow members. \nPlease note that while everyone is welcome to participate\, only members in good standing are eligible to vote on any business that may arise. All meetings are held in person at the Legion: 116 7 Ave SE. \nWe look forward to your continued involvement and valuable contributions at our upcoming meetings and throughout the year.
URL:https://stage.onelegionyyc.ca/event/september-2026-general-meeting/
CATEGORIES:Other
ATTACH;FMTTYPE=image/jpeg:https://stage.onelegionyyc.ca/wp-content/uploads/2026/04/Sept-2026.jpg
END:VEVENT
BEGIN:VEVENT
DTSTART;TZID=America/Edmonton:20261018T120000
DTEND;TZID=America/Edmonton:20261018T130000
DTSTAMP:20260425T095856
CREATED:20260401T204051Z
LAST-MODIFIED:20260401T205216Z
UID:5249-1792324800-1792328400@stage.onelegionyyc.ca
SUMMARY:October 2026 General Meeting
DESCRIPTION:Join us for our General Meetings\, where important updates\, discussions\, and decisions shaping our organization will take place. These meetings provide an excellent opportunity to stay informed\, contribute ideas\, and engage with fellow members. \nPlease note that while everyone is welcome to participate\, only members in good standing are eligible to vote on any business that may arise. All meetings are held in person at the Legion: 116 7 Ave SE. \nWe look forward to your continued involvement and valuable contributions at our upcoming meetings and throughout the year.
URL:https://stage.onelegionyyc.ca/event/october-2026-general-meeting/
CATEGORIES:Other
ATTACH;FMTTYPE=image/jpeg:https://stage.onelegionyyc.ca/wp-content/uploads/2026/04/Oct-2026.jpg
END:VEVENT
BEGIN:VEVENT
DTSTART;TZID=America/Edmonton:20261213T120000
DTEND;TZID=America/Edmonton:20261213T140000
DTSTAMP:20260425T095856
CREATED:20260401T204757Z
LAST-MODIFIED:20260401T205013Z
UID:5252-1797163200-1797170400@stage.onelegionyyc.ca
SUMMARY:Annual General Meeting 2026
DESCRIPTION:Join us for our Annual General Meeting\, where the 2027 Executive will be elected and important updates\, discussions\, and decisions shaping our organization will take place. This is an excellent opportunity to stay informed\, share ideas\, and connect with fellow members. \nAll are welcome to attend; however\, only Members in Good Standing are eligible to vote or run for a position on the Executive\, as well as vote on any business that may arise. \nThe meeting will be held in person at the Legion No. 1: 116 7 Ave SE. \nWe look forward to your continued involvement and valuable contributions\, both at this meeting and throughout the year.
URL:https://stage.onelegionyyc.ca/event/agm2026/
CATEGORIES:Other
ATTACH;FMTTYPE=image/jpeg:https://stage.onelegionyyc.ca/wp-content/uploads/2026/04/Dec-2026.jpg
END:VEVENT
END:VCALENDAR