BEGIN:VCALENDAR
VERSION:2.0
PRODID:-//Royal Canadian Legion Calgary No. 1 Branch - ECPv6.15.14//NONSGML v1.0//EN
CALSCALE:GREGORIAN
METHOD:PUBLISH
X-ORIGINAL-URL:https://stage.onelegionyyc.ca
X-WR-CALDESC:Events for Royal Canadian Legion Calgary No. 1 Branch
REFRESH-INTERVAL;VALUE=DURATION:PT1H
X-Robots-Tag:noindex
X-PUBLISHED-TTL:PT1H
BEGIN:VTIMEZONE
TZID:America/Edmonton
BEGIN:DAYLIGHT
TZOFFSETFROM:-0700
TZOFFSETTO:-0600
TZNAME:MDT
DTSTART:20240310T090000
END:DAYLIGHT
BEGIN:STANDARD
TZOFFSETFROM:-0600
TZOFFSETTO:-0700
TZNAME:MST
DTSTART:20241103T080000
END:STANDARD
BEGIN:DAYLIGHT
TZOFFSETFROM:-0700
TZOFFSETTO:-0600
TZNAME:MDT
DTSTART:20250309T090000
END:DAYLIGHT
BEGIN:STANDARD
TZOFFSETFROM:-0600
TZOFFSETTO:-0700
TZNAME:MST
DTSTART:20251102T080000
END:STANDARD
BEGIN:DAYLIGHT
TZOFFSETFROM:-0700
TZOFFSETTO:-0600
TZNAME:MDT
DTSTART:20260308T090000
END:DAYLIGHT
BEGIN:STANDARD
TZOFFSETFROM:-0600
TZOFFSETTO:-0700
TZNAME:MST
DTSTART:20261101T080000
END:STANDARD
END:VTIMEZONE
BEGIN:VEVENT
DTSTART;TZID=America/Edmonton:20251128T190000
DTEND;TZID=America/Edmonton:20251128T220000
DTSTAMP:20260424T113336
CREATED:20250324T134343Z
LAST-MODIFIED:20251027T221112Z
UID:3751-1764356400-1764367200@stage.onelegionyyc.ca
SUMMARY:Real Canadian Wrestling
DESCRIPTION:RCW Remembering the Viking Lord\nCome join us at the Royal Canadian Legion Branch 1 for a night filled with epic battles and legendary warriors! This event is a tribute to the Viking Lord\, showcasing their fearless spirit and powerful presence. Get ready to witness thrilling matches and intense showdowns as wrestlers from all over come together to honor the Viking Lord’s legacy. Don’t miss out on this unforgettable evening of excitement and entertainment! \nGet your tickets from Eventbrite: RCW Remembering the Viking Lord Tickets\, Fri\, 28 Nov 2025 at 7:30 PM | Eventbrite
URL:https://stage.onelegionyyc.ca/event/real-canadian-wrestling-11/
CATEGORIES:Entertainment
ATTACH;FMTTYPE=image/jpeg:https://stage.onelegionyyc.ca/wp-content/uploads/2025/03/rcw_featured.jpg
END:VEVENT
BEGIN:VEVENT
DTSTART;TZID=America/Edmonton:20251018T190000
DTEND;TZID=America/Edmonton:20251018T220000
DTSTAMP:20260424T113336
CREATED:20250324T134051Z
LAST-MODIFIED:20251015T012322Z
UID:3745-1760814000-1760824800@stage.onelegionyyc.ca
SUMMARY:Real Canadian Wrestling
DESCRIPTION:RCW RISE OF LEGENDS NIGHT 2: CALGARY\nGet ready for a night of non-stop action and excitement at Royal Canadian Legion Branch 1! Join us for the second night of RCW RISE OF LEGENDS as top wrestlers battle it out in the ring. Witness epic showdowns\, jaw-dropping moves\, and unforgettable moments. Don’t miss out on this legendary event – grab your tickets now! \nWitness your favorite wrestlers battle it out in the ring and experience the adrenaline-pumping action live! Don’t miss out on this epic event that promises to be unforgettable. Grab your tickets now and be part of the excitement! \nTickets at Eventbrite:RCW RISE OF LEGENDS NIGHT 2: CALGARY Tickets\, Sat\, 18 Oct 2025 at 7:30 PM | Eventbrite
URL:https://stage.onelegionyyc.ca/event/real-canadian-wrestling-8/
CATEGORIES:Entertainment
ATTACH;FMTTYPE=image/jpeg:https://stage.onelegionyyc.ca/wp-content/uploads/2025/03/Rise-of-Legends-RCW.jpg
END:VEVENT
BEGIN:VEVENT
DTSTART;TZID=America/Edmonton:20250925T180000
DTEND;TZID=America/Edmonton:20250925T220000
DTSTAMP:20260424T113336
CREATED:20250324T133929Z
LAST-MODIFIED:20250403T095753Z
UID:3743-1758823200-1758837600@stage.onelegionyyc.ca
SUMMARY:Real Canadian Wrestling
DESCRIPTION:Join us at the Royal Canadian Legion Branch 1 for a night filled with thrilling wrestling matches and entertainment.\nWitness your favorite wrestlers battle it out in the ring and experience the adrenaline-pumping action live! Don’t miss out on this epic event that promises to be unforgettable. Grab your tickets now and be part of the excitement!
URL:https://stage.onelegionyyc.ca/event/real-canadian-wrestling-7/
CATEGORIES:Entertainment
ATTACH;FMTTYPE=image/jpeg:https://stage.onelegionyyc.ca/wp-content/uploads/2025/03/rcw_featured.jpg
END:VEVENT
BEGIN:VEVENT
DTSTART;TZID=America/Edmonton:20250824T180000
DTEND;TZID=America/Edmonton:20250824T220000
DTSTAMP:20260424T113336
CREATED:20250324T133841Z
LAST-MODIFIED:20250818T143245Z
UID:3741-1756058400-1756072800@stage.onelegionyyc.ca
SUMMARY:Real Canadian Wrestling
DESCRIPTION:Join us at the Royal Canadian Legion Branch 1 for a night filled with thrilling wrestling matches and entertainment.\nWitness your favorite wrestlers battle it out in the ring and experience the adrenaline-pumping action live! Don’t miss out on this epic event that promises to be unforgettable. Grab your tickets now and be part of the excitement!
URL:https://stage.onelegionyyc.ca/event/real-canadian-wrestling-6/
CATEGORIES:Entertainment
ATTACH;FMTTYPE=image/jpeg:https://stage.onelegionyyc.ca/wp-content/uploads/2025/03/rcw_featured.jpg
END:VEVENT
BEGIN:VEVENT
DTSTART;TZID=America/Edmonton:20250725T180000
DTEND;TZID=America/Edmonton:20250725T220000
DTSTAMP:20260424T113336
CREATED:20250324T133810Z
LAST-MODIFIED:20250403T095743Z
UID:3739-1753466400-1753480800@stage.onelegionyyc.ca
SUMMARY:Real Canadian Wrestling
DESCRIPTION:Join us at the Royal Canadian Legion Branch 1 for a night filled with thrilling wrestling matches and entertainment.\nWitness your favorite wrestlers battle it out in the ring and experience the adrenaline-pumping action live! Don’t miss out on this epic event that promises to be unforgettable. Grab your tickets now and be part of the excitement!
URL:https://stage.onelegionyyc.ca/event/real-canadian-wrestling-5/
CATEGORIES:Entertainment
ATTACH;FMTTYPE=image/jpeg:https://stage.onelegionyyc.ca/wp-content/uploads/2025/03/rcw_featured.jpg
END:VEVENT
BEGIN:VEVENT
DTSTART;TZID=America/Edmonton:20250628T180000
DTEND;TZID=America/Edmonton:20250628T220000
DTSTAMP:20260424T113336
CREATED:20250324T133725Z
LAST-MODIFIED:20250403T095735Z
UID:3737-1751133600-1751148000@stage.onelegionyyc.ca
SUMMARY:Real Canadian Wrestling
DESCRIPTION:Join us at the Royal Canadian Legion Branch 1 for a night filled with thrilling wrestling matches and entertainment.\nWitness your favorite wrestlers battle it out in the ring and experience the adrenaline-pumping action live! Don’t miss out on this epic event that promises to be unforgettable. Grab your tickets now and be part of the excitement!
URL:https://stage.onelegionyyc.ca/event/real-canadian-wrestling-4/
CATEGORIES:Entertainment
ATTACH;FMTTYPE=image/jpeg:https://stage.onelegionyyc.ca/wp-content/uploads/2025/03/rcw_featured.jpg
END:VEVENT
BEGIN:VEVENT
DTSTART;TZID=America/Edmonton:20250606T180000
DTEND;TZID=America/Edmonton:20250606T210000
DTSTAMP:20260424T113336
CREATED:20250324T133644Z
LAST-MODIFIED:20250403T095725Z
UID:3735-1749232800-1749243600@stage.onelegionyyc.ca
SUMMARY:Real Canadian Wrestling
DESCRIPTION:Join us at the Royal Canadian Legion Branch 1 for a night filled with thrilling wrestling matches and entertainment.\nWitness your favorite wrestlers battle it out in the ring and experience the adrenaline-pumping action live! Don’t miss out on this epic event that promises to be unforgettable. Grab your tickets now and be part of the excitement!
URL:https://stage.onelegionyyc.ca/event/real-canadian-wrestling-3/
CATEGORIES:Entertainment
ATTACH;FMTTYPE=image/jpeg:https://stage.onelegionyyc.ca/wp-content/uploads/2025/03/rcw_featured.jpg
END:VEVENT
BEGIN:VEVENT
DTSTART;TZID=America/Edmonton:20250509T180000
DTEND;TZID=America/Edmonton:20250509T220000
DTSTAMP:20260424T113336
CREATED:20250324T133416Z
LAST-MODIFIED:20250403T100222Z
UID:3732-1746813600-1746828000@stage.onelegionyyc.ca
SUMMARY:Real Canadian Wrestling
DESCRIPTION:Join us at the Royal Canadian Legion Branch 1 for a night filled with thrilling wrestling matches and entertainment.\nWitness your favorite wrestlers battle it out in the ring and experience the adrenaline-pumping action live! Don’t miss out on this epic event that promises to be unforgettable. Grab your tickets now and be part of the excitement!
URL:https://stage.onelegionyyc.ca/event/real-canadian-wrestling-2/
CATEGORIES:Entertainment
ATTACH;FMTTYPE=image/png:https://stage.onelegionyyc.ca/wp-content/uploads/2025/03/twentytwo_featured.png
END:VEVENT
BEGIN:VEVENT
DTSTART;TZID=America/Edmonton:20250411T180000
DTEND;TZID=America/Edmonton:20250411T220000
DTSTAMP:20260424T113336
CREATED:20250324T133301Z
LAST-MODIFIED:20250403T095645Z
UID:3729-1744394400-1744408800@stage.onelegionyyc.ca
SUMMARY:Real Canadian Wrestling
DESCRIPTION:Join us at the Royal Canadian Legion Branch 1 for a night filled with thrilling wrestling matches and entertainment.\nWitness your favorite wrestlers battle it out in the ring and experience the adrenaline-pumping action live! Don’t miss out on this epic event that promises to be unforgettable. Grab your tickets now and be part of the excitement!
URL:https://stage.onelegionyyc.ca/event/3729/
CATEGORIES:Entertainment
ATTACH;FMTTYPE=image/png:https://stage.onelegionyyc.ca/wp-content/uploads/2025/03/collissioncourse_featured.png
END:VEVENT
BEGIN:VEVENT
DTSTART;TZID=America/Edmonton:20250328T180000
DTEND;TZID=America/Edmonton:20250328T220000
DTSTAMP:20260424T113336
CREATED:20250324T125848Z
LAST-MODIFIED:20250403T084834Z
UID:3727-1743184800-1743199200@stage.onelegionyyc.ca
SUMMARY:Real Canadian Wrestling
DESCRIPTION:Join us at the Royal Canadian Legion Branch 1 for a night filled with thrilling wrestling matches and entertainment. Witness your favorite wrestlers battle it out in the ring and experience the adrenaline-pumping action live! Don’t miss out on this epic event that promises to be unforgettable. Grab your tickets now and be part of the excitement!
URL:https://stage.onelegionyyc.ca/event/real-canadian-wrestling/
CATEGORIES:Entertainment
ATTACH;FMTTYPE=image/jpeg:https://stage.onelegionyyc.ca/wp-content/uploads/2025/03/rcw_featured.jpg
END:VEVENT
END:VCALENDAR