BEGIN:VCALENDAR
VERSION:2.0
PRODID:-//Royal Canadian Legion Calgary No. 1 Branch - ECPv6.15.14//NONSGML v1.0//EN
CALSCALE:GREGORIAN
METHOD:PUBLISH
X-WR-CALNAME:Royal Canadian Legion Calgary No. 1 Branch
X-ORIGINAL-URL:https://stage.onelegionyyc.ca
X-WR-CALDESC:Events for Royal Canadian Legion Calgary No. 1 Branch
REFRESH-INTERVAL;VALUE=DURATION:PT1H
X-Robots-Tag:noindex
X-PUBLISHED-TTL:PT1H
BEGIN:VTIMEZONE
TZID:America/Edmonton
BEGIN:DAYLIGHT
TZOFFSETFROM:-0700
TZOFFSETTO:-0600
TZNAME:MDT
DTSTART:20250309T090000
END:DAYLIGHT
BEGIN:STANDARD
TZOFFSETFROM:-0600
TZOFFSETTO:-0700
TZNAME:MST
DTSTART:20251102T080000
END:STANDARD
BEGIN:DAYLIGHT
TZOFFSETFROM:-0700
TZOFFSETTO:-0600
TZNAME:MDT
DTSTART:20260308T090000
END:DAYLIGHT
BEGIN:STANDARD
TZOFFSETFROM:-0600
TZOFFSETTO:-0700
TZNAME:MST
DTSTART:20261101T080000
END:STANDARD
BEGIN:DAYLIGHT
TZOFFSETFROM:-0700
TZOFFSETTO:-0600
TZNAME:MDT
DTSTART:20270314T090000
END:DAYLIGHT
BEGIN:STANDARD
TZOFFSETFROM:-0600
TZOFFSETTO:-0700
TZNAME:MST
DTSTART:20271107T080000
END:STANDARD
END:VTIMEZONE
BEGIN:VEVENT
DTSTART;TZID=America/Edmonton:20260111T130000
DTEND;TZID=America/Edmonton:20260111T140000
DTSTAMP:20260424T154908
CREATED:20250910T223420Z
LAST-MODIFIED:20260105T014433Z
UID:4939-1768136400-1768140000@stage.onelegionyyc.ca
SUMMARY:January General Meeting
DESCRIPTION:We begin 2026 with a call for members to attend our General Meetings\, where important updates\, discussions\, and decisions shaping our organization will take place. These meetings provide an excellent opportunity to stay informed\, contribute ideas\, and engage with fellow members. \nPlease note that while everyone is welcome to participate\, only members in good standing are eligible to vote on any business that may arise. All meetings are held in person at the Legion: 116 7 Ave SE. \nWe look forward to your continued involvement and valuable contributions at our upcoming meetings and throughout the year.
URL:https://stage.onelegionyyc.ca/event/jan2026-general-meeting/
ATTACH;FMTTYPE=image/png:https://stage.onelegionyyc.ca/wp-content/uploads/2025/09/Jan-2026-GM-resized.png
END:VEVENT
END:VCALENDAR